BEGIN:VCALENDAR
VERSION:2.0
PRODID:www.gruene-mkk.de
METHOD:PUBLISH
BEGIN:VTIMEZONE
TZID:Europe/Berlin
X-LIC-LOCATION:Europe/Berlin
BEGIN:DAYLIGHT
TZOFFSETFROM:+0100
TZOFFSETTO:+0200
TZNAME:CEST
DTSTART:19700329T020000
RRULE:FREQ=YEARLY;INTERVAL=1;BYDAY=-1SU;BYMONTH=3
END:DAYLIGHT
BEGIN:STANDARD
TZOFFSETFROM:+0200
TZOFFSETTO:+0100
TZNAME:CET
DTSTART:19701025T030000
RRULE:FREQ=YEARLY;INTERVAL=1;BYDAY=-1SU;BYMONTH=10
END:STANDARD
END:VTIMEZONE
BEGIN:VEVENT
UID:366b42cf4784100120c83417efbb8625@www.gruene-mkk.de
URL;VALUE=URI:https://www.gruene-mkk.de/ru/termine/wahlkampfstand-in-schl
 uechtern-2/
LOCATION:Schlüchtern
SUMMARY:Wahlkampfstand in Schlüchtern
DESCRIPTION;ALTREP="data:text/html,%0A%3Cp%3EMach%20auch%20Du%2C%20was%20
 z%C3%A4hlt%20und%20unterst%C3%BCtze%20uns%20am%20Wahlkampfstand%20in%20Sc
 hl%C3%BCchtern.%3C%2Fp%3E%0A%0A%0A%0A%3Cp%3EAm%20%3Ca%20href%3D%22https%3
 A%2F%2Ftermite.gruene.de%2FhjzNnrJ3IZDWTj7S%22%3ESa%2C%2001.06.24%20stehe
 n%20wir%20mit%20unserem%20Wahlkampfstand%20in%20Schl%C3%BCchtern%20von%20
 09%3A00%20bis%2013%3A00%20Uhr%3C%2Fa%3E.%3C%2Fp%3E%0A%0A%0A%0A%3Cp%3EDu%2
 0bist%20dabei%3F%20Trage%20Dich%20in%20die%20folgende%20Abfrage%20ein%3A%
 20%3Ca%20href%3D%22https%3A%2F%2Ftermite.gruene.de%2FhjzNnrJ3IZDWTj7S%22%
 3Ehttps%3A%2F%2Ftermite.gruene.de%2FhjzNnrJ3IZDWTj7S%3C%2Fa%3E.%3C%2Fp%3E
 %0A":Mach auch Du\, was zählt und unterstütze uns am Wahlkampfstand in 
 Schlüchtern.\n\nAm Sa\, 01.06.24 stehen wir mit unserem Wahlkampfstand i
 n Schlüchtern von 09:00 bis 13:00 Uhr.\n\nDu bist dabei? Trage Dich in d
 ie folgende Abfrage ein: https://termite.gruene.de/hjzNnrJ3IZDWTj7S.
CLASS:PUBLIC
DTSTART;TZID=Europe/Berlin:20240601T090000
DTEND;TZID=Europe/Berlin:20240601T130000
DTSTAMP:20260422T102514
END:VEVENT
END:VCALENDAR