BEGIN:VCALENDAR
VERSION:2.0
PRODID:www.gruene-mkk.de
METHOD:PUBLISH
BEGIN:VTIMEZONE
TZID:Europe/Berlin
X-LIC-LOCATION:Europe/Berlin
BEGIN:DAYLIGHT
TZOFFSETFROM:+0100
TZOFFSETTO:+0200
TZNAME:CEST
DTSTART:19700329T020000
RRULE:FREQ=YEARLY;INTERVAL=1;BYDAY=-1SU;BYMONTH=3
END:DAYLIGHT
BEGIN:STANDARD
TZOFFSETFROM:+0200
TZOFFSETTO:+0100
TZNAME:CET
DTSTART:19701025T030000
RRULE:FREQ=YEARLY;INTERVAL=1;BYDAY=-1SU;BYMONTH=10
END:STANDARD
END:VTIMEZONE
BEGIN:VEVENT
UID:31aa7fd6cdf2474bbfafdf23276a477c@www.gruene-mkk.de
URL;VALUE=URI:https://www.gruene-mkk.de/hr/termine/kennenlernabend-in-gru
 endau-%f0%9f%8c%bf%f0%9f%8d%95/
LOCATION:Pizzeria Rosmarino, Jahnstraße 23, 63584 Gründau
SUMMARY:Kennenlernabend in Gründau 🌿🍕
DESCRIPTION;ALTREP="data:text/html,%0A%3Cp%3EWir%20laden%20euch%20herzlic
 h%20zu%20einem%20gem%C3%BCtlichen%20Kennenlernabend%20ein%2C%20mit%20leck
 erem%20Essen%2C%20offenen%20Gespr%C3%A4chen%20und%20der%20Gelegenheit%2C%
 20sich%20pers%C3%B6nlich%20auszutauschen.%3C%2Fp%3E%0A":Wir laden euch he
 rzlich zu einem gemütlichen Kennenlernabend ein\, mit leckerem Essen\, o
 ffenen Gesprächen und der Gelegenheit\, sich persönlich auszutauschen.
CLASS:PUBLIC
DTSTART;TZID=Europe/Berlin:20250819T190000
DTEND;TZID=Europe/Berlin:20250819T200000
DTSTAMP:20260422T102538
END:VEVENT
END:VCALENDAR