BEGIN:VCALENDAR
VERSION:2.0
PRODID:www.gruene-mkk.de
METHOD:PUBLISH
BEGIN:VTIMEZONE
TZID:Europe/Berlin
X-LIC-LOCATION:Europe/Berlin
BEGIN:DAYLIGHT
TZOFFSETFROM:+0100
TZOFFSETTO:+0200
TZNAME:CEST
DTSTART:19700329T020000
RRULE:FREQ=YEARLY;INTERVAL=1;BYDAY=-1SU;BYMONTH=3
END:DAYLIGHT
BEGIN:STANDARD
TZOFFSETFROM:+0200
TZOFFSETTO:+0100
TZNAME:CET
DTSTART:19701025T030000
RRULE:FREQ=YEARLY;INTERVAL=1;BYDAY=-1SU;BYMONTH=10
END:STANDARD
END:VTIMEZONE
BEGIN:VEVENT
UID:da48531c7c7cf56c0366d804c1e31954@www.gruene-mkk.de
URL;VALUE=URI:https://www.gruene-mkk.de/en/termine/neumitglieder-fruehstu
 eck-2/
LOCATION:Geschäftsstelle, Calvinstraße 10, 63450 Hanau
SUMMARY:Neumitglieder-Frühstück
DESCRIPTION;ALTREP="data:text/html,%0A%3Cp%3EUm%20euch%20kennenzulernen%2
 C%20Fragen%20zu%20kl%C3%A4ren%20und%20einen%20ersten%20Einblick%20in%20un
 sere%20Strukturen%20und%20Arbeitsweise%20vor%20Ort%20zu%20geben%2C%20lade
 n%20wir%20euch%20herzlich%20ein%20zu%20unserem%20%3Cstrong%3ENeumitgliede
 r-Fr%C3%BChst%C3%BCck%3C%2Fstrong%3E%3Cstrong%3E%20am%20%3C%2Fstrong%3E%3
 Cstrong%3ESamstag%2C%2014.%20Juni%202025%3C%2Fstrong%3E%3Cstrong%3E%20um%
 20%3C%2Fstrong%3E%3Cstrong%3E10%3A00%20Uhr%20in%20unsere%20%3C%2Fstrong%3
 E%3Cstrong%3EGesch%C3%A4ftsstelle%20in%20Hanau%3C%2Fstrong%3E%20%28Calvin
 stra%C3%9Fe%2010%2C%2063450%20Hanau%29.%3Cbr%3E%3C%2Fp%3E%0A%0A%0A%0A%3Cp
 %3EIn%20lockerer%20Runde%20m%C3%B6chten%20wir%20mit%20euch%20ins%20Gespr%
 C3%A4ch%20kommen%20%E2%80%93%20%C3%BCber%20M%C3%B6glichkeiten%20zur%20Mit
 arbeit%2C%20die%20Organisation%20von%20Kreisverband%2C%20Ortsverb%C3%A4nd
 en%20und%20Fraktionen%2C%20und%20nat%C3%BCrlich%20%C3%BCber%20das%2C%20wa
 s%20euch%20politisch%20bewegt.%3C%2Fp%3E%0A%0A%0A%0A%3Cp%3EBitte%20meldet
 %20euch%20daf%C3%BCr%20%C3%BCber%20das%20folgende%20Formular%20an%3A%3C%2
 Fp%3E%0A%0A%0A%0A%09Notice%3A%20JavaScript%20is%20required%20for%20this%2
 0content.%0A%3Cdiv%20id%3D%22nf-form-30-cont%22%20class%3D%22nf-form-cont
 %22%20aria-live%3D%22polite%22%20aria-labelledby%3D%22nf-form-title-30%22
 %20aria-describedby%3D%22nf-form-errors-30%22%20role%3D%22form%22%3E%0A%0
 A%20%20%20%20%3Cdiv%20class%3D%22nf-loading-spinner%22%3E%3C%2Fdiv%3E%0A%
 0A%3C%2Fdiv%3E%0A%20%20%20%20%20%20%20%20%3C%21--%20That%20data%20is%20be
 ing%20printed%20as%20a%20workaround%20to%20page%20builders%20reordering%2
 0the%20order%20of%20the%20scripts%20loaded--%3E%0A%20%20%20%20%20%20%20%2
 0var%20formDisplay%3D1%3Bvar%20nfForms%3DnfForms%7C%7C%5B%5D%3Bvar%20form
 %3D%5B%5D%3Bform.id%3D%2730%27%3Bform.settings%3D%7B%22objectType%22%3A%2
 2Form%20Setting%22%2C%22editActive%22%3Atrue%2C%22title%22%3A%2220250614_
 Neumitglieder-Fr%5Cu00fchst%5Cu00fcck%22%2C%22created_at%22%3A%222025-05-
 15%2017%3A50%3A18%22%2C%22default_label_pos%22%3A%22above%22%2C%22show_ti
 tle%22%3A%220%22%2C%22clear_complete%22%3A%221%22%2C%22hide_complete%22%3
 A%221%22%2C%22logged_in%22%3A%22%22%2C%22wrapper_class%22%3A%22%22%2C%22e
 lement_class%22%3A%22%22%2C%22form_title_heading_level%22%3A%223%22%2C%22
 key%22%3A%22%22%2C%22add_submit%22%3A%221%22%2C%22currency%22%3A%22%22%2C
 %22unique_field_error%22%3A%22A%20form%20with%20this%20value%20has%20alre
 ady%20been%20submitted.%22%2C%22not_logged_in_msg%22%3A%22%22%2C%22sub_li
 mit_msg%22%3A%22The%20form%20has%20reached%20its%20submission%20limit.%22
 %2C%22calculations%22%3A%5B%5D%2C%22formContentData%22%3A%5B%22vor-_und_n
 achname_1734607265462%22%2C%22e-mail_1734607318623%22%2C%22fuer_das_buffe
 t_nehme_ich_mit_1734607400840%22%2C%22ich_bringe_jemanden_mit_17346073823
 36%22%2C%22submit_1734607420653%22%5D%2C%22changeEmailErrorMsg%22%3A%22Pl
 ease%20enter%20a%20valid%20email%20address%21%22%2C%22changeDateErrorMsg%
 22%3A%22Please%20enter%20a%20valid%20date%21%22%2C%22confirmFieldErrorMsg
 %22%3A%22These%20fields%20must%20match%21%22%2C%22fieldNumberNumMinError%
 22%3A%22Number%20Min%20Error%22%2C%22fieldNumberNumMaxError%22%3A%22Numbe
 r%20Max%20Error%22%2C%22fieldNumberIncrementBy%22%3A%22Please%20increment
 %20by%20%22%2C%22formErrorsCorrectErrors%22%3A%22Please%20correct%20error
 s%20before%20submitting%20this%20form.%22%2C%22validateRequiredField%22%3
 A%22This%20is%20a%20required%20field.%22%2C%22honeypotHoneypotError%22%3A
 %22Honeypot%20Error%22%2C%22fieldsMarkedRequired%22%3A%22Fields%20marked%
 20with%20an%20%3Cspan%20class%3D%22ninja-forms-req-symbol%22%3E%2A%20are%
 20required%22%2C%22objectDomain%22%3A%22display%22%2C%22drawerDisabled%22
 %3Afalse%2C%22allow_public_link%22%3A0%2C%22embed_form%22%3A%22%22%2C%22n
 injaForms%22%3A%22Ninja%20Forms%22%2C%22fieldTextareaRTEInsertLink%22%3A%
 22Insert%20Link%22%2C%22fieldTextareaRTEInsertMedia%22%3A%22Insert%20Medi
 a%22%2C%22fieldTextareaRTESelectAFile%22%3A%22Select%20a%20file%22%2C%22f
 ormHoneypot%22%3A%22If%20you%20are%20a%20human%20seeing%20this%20field%2C
 %20please%20leave%20it%20empty.%22%2C%22fileUploadOldCodeFileUploadInProg
 ress%22%3A%22File%20Upload%20in%20Progress.%22%2C%22fileUploadOldCodeFile
 Upload%22%3A%22FILE%20UPLOAD%22%2C%22currencySymbol%22%3Afalse%2C%22thous
 ands_sep%22%3A%22.%22%2C%22decimal_point%22%3A%22%2C%22%2C%22siteLocale%2
 2%3A%22en_GB%22%2C%22dateFormat%22%3A%22m%5C%2Fd%5C%2FY%22%2C%22startOfWe
 ek%22%3A%221%22%2C%22of%22%3A%22of%22%2C%22previousMonth%22%3A%22Previous
 %20Month%22%2C%22nextMonth%22%3A%22Next%20Month%22%2C%22months%22%3A%5B%2
 2January%22%2C%22February%22%2C%22March%22%2C%22April%22%2C%22May%22%2C%2
 2June%22%2C%22July%22%2C%22August%22%2C%22September%22%2C%22October%22%2C
 %22November%22%2C%22December%22%5D%2C%22monthsShort%22%3A%5B%22Jan%22%2C%
 22Feb%22%2C%22Mar%22%2C%22Apr%22%2C%22May%22%2C%22Jun%22%2C%22Jul%22%2C%2
 2Aug%22%2C%22Sep%22%2C%22Oct%22%2C%22Nov%22%2C%22Dec%22%5D%2C%22weekdays%
 22%3A%5B%22Sunday%22%2C%22Monday%22%2C%22Tuesday%22%2C%22Wednesday%22%2C%
 22Thursday%22%2C%22Friday%22%2C%22Saturday%22%5D%2C%22weekdaysShort%22%3A
 %5B%22Sun%22%2C%22Mon%22%2C%22Tue%22%2C%22Wed%22%2C%22Thu%22%2C%22Fri%22%
 2C%22Sat%22%5D%2C%22weekdaysMin%22%3A%5B%22Su%22%2C%22Mo%22%2C%22Tu%22%2C
 %22We%22%2C%22Th%22%2C%22Fr%22%2C%22Sa%22%5D%2C%22recaptchaConsentMissing
 %22%3A%22reCaptcha%20validation%20couldn%26%23039%3Bt%20load.%22%2C%22rec
 aptchaMissingCookie%22%3A%22reCaptcha%20v3%20validation%20couldn%26%23039
 %3Bt%20load%20the%20cookie%20needed%20to%20submit%20the%20form.%22%2C%22r
 ecaptchaConsentEvent%22%3A%22Accept%20reCaptcha%20cookies%20before%20send
 ing%20the%20form.%22%2C%22currency_symbol%22%3A%22%22%2C%22beforeForm%22%
 3A%22%22%2C%22beforeFields%22%3A%22%22%2C%22afterFields%22%3A%22%22%2C%22
 afterForm%22%3A%22%22%7D%3Bform.fields%3D%5B%7B%22objectType%22%3A%22Fiel
 d%22%2C%22objectDomain%22%3A%22fields%22%2C%22editActive%22%3Afalse%2C%22
 order%22%3A1%2C%22idAttribute%22%3A%22id%22%2C%22type%22%3A%22firstname%2
 2%2C%22label%22%3A%22Vor-%20und%20Nachname%22%2C%22key%22%3A%22vor-_und_n
 achname_1734607265462%22%2C%22label_pos%22%3A%22above%22%2C%22required%22
 %3A1%2C%22default%22%3A%22%22%2C%22placeholder%22%3A%22%22%2C%22container
 _class%22%3A%22%22%2C%22element_class%22%3A%22%22%2C%22admin_label%22%3A%
 22%22%2C%22help_text%22%3A%22%22%2C%22custom_name_attribute%22%3A%22fname
 %22%2C%22personally_identifiable%22%3A1%2C%22value%22%3A%22%22%2C%22field
 _label%22%3A%22Vor-%20und%20Nachname%22%2C%22field_key%22%3A%22vor-_und_n
 achname_1734607265462%22%2C%22id%22%3A240%2C%22beforeField%22%3A%22%22%2C
 %22afterField%22%3A%22%22%2C%22parentType%22%3A%22firstname%22%2C%22eleme
 nt_templates%22%3A%5B%22firstname%22%2C%22input%22%5D%2C%22old_classname%
 22%3A%22%22%2C%22wrap_template%22%3A%22wrap%22%7D%2C%7B%22objectType%22%3
 A%22Field%22%2C%22objectDomain%22%3A%22fields%22%2C%22editActive%22%3Afal
 se%2C%22order%22%3A2%2C%22idAttribute%22%3A%22id%22%2C%22type%22%3A%22ema
 il%22%2C%22label%22%3A%22E-Mail%22%2C%22key%22%3A%22e-mail_1734607318623%
 22%2C%22label_pos%22%3A%22above%22%2C%22required%22%3A1%2C%22default%22%3
 A%22%22%2C%22placeholder%22%3A%22%22%2C%22container_class%22%3A%22%22%2C%
 22element_class%22%3A%22%22%2C%22admin_label%22%3A%22%22%2C%22help_text%2
 2%3A%22%22%2C%22custom_name_attribute%22%3A%22email%22%2C%22personally_id
 entifiable%22%3A1%2C%22value%22%3A%22%22%2C%22field_label%22%3A%22E-Mail%
 22%2C%22field_key%22%3A%22e-mail_1734607318623%22%2C%22id%22%3A241%2C%22b
 eforeField%22%3A%22%22%2C%22afterField%22%3A%22%22%2C%22parentType%22%3A%
 22email%22%2C%22element_templates%22%3A%5B%22email%22%2C%22input%22%5D%2C
 %22old_classname%22%3A%22%22%2C%22wrap_template%22%3A%22wrap%22%7D%2C%7B%
 22objectType%22%3A%22Field%22%2C%22objectDomain%22%3A%22fields%22%2C%22ed
 itActive%22%3Afalse%2C%22order%22%3A3%2C%22idAttribute%22%3A%22id%22%2C%2
 2type%22%3A%22textbox%22%2C%22label%22%3A%22F%5Cu00fcr%20das%20Buffet%20n
 ehme%20ich%20mit...%22%2C%22key%22%3A%22fuer_das_buffet_nehme_ich_mit_173
 4607400840%22%2C%22label_pos%22%3A%22above%22%2C%22required%22%3A%22%22%2
 C%22default%22%3A%22%22%2C%22placeholder%22%3A%22%22%2C%22container_class
 %22%3A%22%22%2C%22element_class%22%3A%22%22%2C%22input_limit%22%3A%22%22%
 2C%22input_limit_type%22%3A%22characters%22%2C%22input_limit_msg%22%3A%22
 Character%28s%29%20left%22%2C%22manual_key%22%3A%22%22%2C%22admin_label%2
 2%3A%22%22%2C%22help_text%22%3A%22%22%2C%22mask%22%3A%22%22%2C%22custom_m
 ask%22%3A%22%22%2C%22custom_name_attribute%22%3A%22%22%2C%22personally_id
 entifiable%22%3A%22%22%2C%22value%22%3A%22%22%2C%22drawerDisabled%22%3A%2
 2%22%2C%22field_label%22%3A%22F%5Cu00fcr%20das%20Buffet%20nehme%20ich%20m
 it...%22%2C%22field_key%22%3A%22fuer_das_buffet_nehme_ich_mit_17346074008
 40%22%2C%22id%22%3A242%2C%22beforeField%22%3A%22%22%2C%22afterField%22%3A
 %22%22%2C%22parentType%22%3A%22textbox%22%2C%22element_templates%22%3A%5B
 %22textbox%22%2C%22input%22%5D%2C%22old_classname%22%3A%22%22%2C%22wrap_t
 emplate%22%3A%22wrap%22%7D%2C%7B%22objectType%22%3A%22Field%22%2C%22objec
 tDomain%22%3A%22fields%22%2C%22editActive%22%3Afalse%2C%22order%22%3A4%2C
 %22idAttribute%22%3A%22id%22%2C%22type%22%3A%22checkbox%22%2C%22label%22%
 3A%22Ich%20bringe%20jemanden%20mit.%22%2C%22key%22%3A%22ich_bringe_jemand
 en_mit_1734607382336%22%2C%22label_pos%22%3A%22right%22%2C%22required%22%
 3A%22%22%2C%22container_class%22%3A%22%22%2C%22element_class%22%3A%22%22%
 2C%22manual_key%22%3A%22%22%2C%22admin_label%22%3A%22%22%2C%22help_text%2
 2%3A%22%22%2C%22default_value%22%3A%22unchecked%22%2C%22checked_value%22%
 3A%22Checked%22%2C%22unchecked_value%22%3A%22Unchecked%22%2C%22checked_ca
 lc_value%22%3A%22%22%2C%22unchecked_calc_value%22%3A%22%22%2C%22field_lab
 el%22%3A%22Ich%20bringe%20jemanden%20mit.%22%2C%22field_key%22%3A%22ich_b
 ringe_jemanden_mit_1734607382336%22%2C%22id%22%3A243%2C%22beforeField%22%
 3A%22%22%2C%22afterField%22%3A%22%22%2C%22value%22%3A%22%22%2C%22parentTy
 pe%22%3A%22checkbox%22%2C%22element_templates%22%3A%5B%22checkbox%22%2C%2
 2input%22%5D%2C%22old_classname%22%3A%22%22%2C%22wrap_template%22%3A%22wr
 ap%22%7D%2C%7B%22objectType%22%3A%22Field%22%2C%22objectDomain%22%3A%22fi
 elds%22%2C%22editActive%22%3Afalse%2C%22order%22%3A9999%2C%22idAttribute%
 22%3A%22id%22%2C%22type%22%3A%22submit%22%2C%22label%22%3A%22Submit%22%2C
 %22processing_label%22%3A%22Processing%22%2C%22container_class%22%3A%22%2
 2%2C%22element_class%22%3A%22%22%2C%22key%22%3A%22submit_1734607420653%22
 %2C%22admin_label%22%3A%22%22%2C%22field_label%22%3A%22Submit%22%2C%22fie
 ld_key%22%3A%22submit_1734607420653%22%2C%22id%22%3A244%2C%22beforeField%
 22%3A%22%22%2C%22afterField%22%3A%22%22%2C%22value%22%3A%22%22%2C%22label
 _pos%22%3A%22above%22%2C%22parentType%22%3A%22textbox%22%2C%22element_tem
 plates%22%3A%5B%22submit%22%2C%22button%22%2C%22input%22%5D%2C%22old_clas
 sname%22%3A%22%22%2C%22wrap_template%22%3A%22wrap-no-label%22%7D%5D%3BnfF
 orms.push%28form%29%3B%0A%20%20%20%20%20%20%20%20":Um euch kennenzulernen
 \, Fragen zu klären und einen ersten Einblick in unsere Strukturen und A
 rbeitsweise vor Ort zu geben\, laden wir euch herzlich ein zu unserem Neu
 mitglieder-Frühstück am Samstag\, 14. Juni 2025 um 10:00 Uhr in unsere 
 Geschäftsstelle in Hanau (Calvinstraße 10\, 63450 Hanau).\n\nIn lockere
 r Runde möchten wir mit euch ins Gespräch kommen – über Möglichkeit
 en zur Mitarbeit\, die Organisation von Kreisverband\, Ortsverbänden und
  Fraktionen\, und natürlich über das\, was euch politisch bewegt.\n\nBi
 tte meldet euch dafür über das folgende Formular an:\n\n	Notice: JavaSc
 ript is required for this content.\n\n        var formDisplay=1\;var nfFo
 rms=nfForms||[]\;var form=[]\;form.id='30'\;form.settings={"objectType":"
 Form Setting"\,"editActive":true\,"title":"20250614_Neumitglieder-Fr\\u00
 fchst\\u00fcck"\,"created_at":"2025-05-15 17:50:18"\,"default_label_pos":
 "above"\,"show_title":"0"\,"clear_complete":"1"\,"hide_complete":"1"\,"lo
 gged_in":""\,"wrapper_class":""\,"element_class":""\,"form_title_heading_
 level":"3"\,"key":""\,"add_submit":"1"\,"currency":""\,"unique_field_erro
 r":"A form with this value has already been submitted."\,"not_logged_in_m
 sg":""\,"sub_limit_msg":"The form has reached its submission limit."\,"ca
 lculations":[]\,"formContentData":["vor-_und_nachname_1734607265462"\,"e-
 mail_1734607318623"\,"fuer_das_buffet_nehme_ich_mit_1734607400840"\,"ich_
 bringe_jemanden_mit_1734607382336"\,"submit_1734607420653"]\,"changeEmail
 ErrorMsg":"Please enter a valid email address!"\,"changeDateErrorMsg":"Pl
 ease enter a valid date!"\,"confirmFieldErrorMsg":"These fields must matc
 h!"\,"fieldNumberNumMinError":"Number Min Error"\,"fieldNumberNumMaxError
 ":"Number Max Error"\,"fieldNumberIncrementBy":"Please increment by "\,"f
 ormErrorsCorrectErrors":"Please correct errors before submitting this for
 m."\,"validateRequiredField":"This is a required field."\,"honeypotHoneyp
 otError":"Honeypot Error"\,"fieldsMarkedRequired":"Fields marked with an 
 * are required"\,"objectDomain":"display"\,"drawerDisabled":false\,"allow
 _public_link":0\,"embed_form":""\,"ninjaForms":"Ninja Forms"\,"fieldTexta
 reaRTEInsertLink":"Insert Link"\,"fieldTextareaRTEInsertMedia":"Insert Me
 dia"\,"fieldTextareaRTESelectAFile":"Select a file"\,"formHoneypot":"If y
 ou are a human seeing this field\, please leave it empty."\,"fileUploadOl
 dCodeFileUploadInProgress":"File Upload in Progress."\,"fileUploadOldCode
 FileUpload":"FILE UPLOAD"\,"currencySymbol":false\,"thousands_sep":"."\,"
 decimal_point":"\,"\,"siteLocale":"en_GB"\,"dateFormat":"m\\/d\\/Y"\,"sta
 rtOfWeek":"1"\,"of":"of"\,"previousMonth":"Previous Month"\,"nextMonth":"
 Next Month"\,"months":["January"\,"February"\,"March"\,"April"\,"May"\,"J
 une"\,"July"\,"August"\,"September"\,"October"\,"November"\,"December"]\,
 "monthsShort":["Jan"\,"Feb"\,"Mar"\,"Apr"\,"May"\,"Jun"\,"Jul"\,"Aug"\,"S
 ep"\,"Oct"\,"Nov"\,"Dec"]\,"weekdays":["Sunday"\,"Monday"\,"Tuesday"\,"We
 dnesday"\,"Thursday"\,"Friday"\,"Saturday"]\,"weekdaysShort":["Sun"\,"Mon
 "\,"Tue"\,"Wed"\,"Thu"\,"Fri"\,"Sat"]\,"weekdaysMin":["Su"\,"Mo"\,"Tu"\,"
 We"\,"Th"\,"Fr"\,"Sa"]\,"recaptchaConsentMissing":"reCaptcha validation c
 ouldn't load."\,"recaptchaMissingCookie":"reCaptcha v3 validation couldn'
 t load the cookie needed to submit the form."\,"recaptchaConsentEvent":"A
 ccept reCaptcha cookies before sending the form."\,"currency_symbol":""\,
 "beforeForm":""\,"beforeFields":""\,"afterFields":""\,"afterForm":""}\;fo
 rm.fields=[{"objectType":"Field"\,"objectDomain":"fields"\,"editActive":f
 alse\,"order":1\,"idAttribute":"id"\,"type":"firstname"\,"label":"Vor- un
 d Nachname"\,"key":"vor-_und_nachname_1734607265462"\,"label_pos":"above"
 \,"required":1\,"default":""\,"placeholder":""\,"container_class":""\,"el
 ement_class":""\,"admin_label":""\,"help_text":""\,"custom_name_attribute
 ":"fname"\,"personally_identifiable":1\,"value":""\,"field_label":"Vor- u
 nd Nachname"\,"field_key":"vor-_und_nachname_1734607265462"\,"id":240\,"b
 eforeField":""\,"afterField":""\,"parentType":"firstname"\,"element_templ
 ates":["firstname"\,"input"]\,"old_classname":""\,"wrap_template":"wrap"}
 \,{"objectType":"Field"\,"objectDomain":"fields"\,"editActive":false\,"or
 der":2\,"idAttribute":"id"\,"type":"email"\,"label":"E-Mail"\,"key":"e-ma
 il_1734607318623"\,"label_pos":"above"\,"required":1\,"default":""\,"plac
 eholder":""\,"container_class":""\,"element_class":""\,"admin_label":""\,
 "help_text":""\,"custom_name_attribute":"email"\,"personally_identifiable
 ":1\,"value":""\,"field_label":"E-Mail"\,"field_key":"e-mail_173460731862
 3"\,"id":241\,"beforeField":""\,"afterField":""\,"parentType":"email"\,"e
 lement_templates":["email"\,"input"]\,"old_classname":""\,"wrap_template"
 :"wrap"}\,{"objectType":"Field"\,"objectDomain":"fields"\,"editActive":fa
 lse\,"order":3\,"idAttribute":"id"\,"type":"textbox"\,"label":"F\\u00fcr 
 das Buffet nehme ich mit..."\,"key":"fuer_das_buffet_nehme_ich_mit_173460
 7400840"\,"label_pos":"above"\,"required":""\,"default":""\,"placeholder"
 :""\,"container_class":""\,"element_class":""\,"input_limit":""\,"input_l
 imit_type":"characters"\,"input_limit_msg":"Character(s) left"\,"manual_k
 ey":""\,"admin_label":""\,"help_text":""\,"mask":""\,"custom_mask":""\,"c
 ustom_name_attribute":""\,"personally_identifiable":""\,"value":""\,"draw
 erDisabled":""\,"field_label":"F\\u00fcr das Buffet nehme ich mit..."\,"f
 ield_key":"fuer_das_buffet_nehme_ich_mit_1734607400840"\,"id":242\,"befor
 eField":""\,"afterField":""\,"parentType":"textbox"\,"element_templates":
 ["textbox"\,"input"]\,"old_classname":""\,"wrap_template":"wrap"}\,{"obje
 ctType":"Field"\,"objectDomain":"fields"\,"editActive":false\,"order":4\,
 "idAttribute":"id"\,"type":"checkbox"\,"label":"Ich bringe jemanden mit."
 \,"key":"ich_bringe_jemanden_mit_1734607382336"\,"label_pos":"right"\,"re
 quired":""\,"container_class":""\,"element_class":""\,"manual_key":""\,"a
 dmin_label":""\,"help_text":""\,"default_value":"unchecked"\,"checked_val
 ue":"Checked"\,"unchecked_value":"Unchecked"\,"checked_calc_value":""\,"u
 nchecked_calc_value":""\,"field_label":"Ich bringe jemanden mit."\,"field
 _key":"ich_bringe_jemanden_mit_1734607382336"\,"id":243\,"beforeField":""
 \,"afterField":""\,"value":""\,"parentType":"checkbox"\,"element_template
 s":["checkbox"\,"input"]\,"old_classname":""\,"wrap_template":"wrap"}\,{"
 objectType":"Field"\,"objectDomain":"fields"\,"editActive":false\,"order"
 :9999\,"idAttribute":"id"\,"type":"submit"\,"label":"Submit"\,"processing
 _label":"Processing"\,"container_class":""\,"element_class":""\,"key":"su
 bmit_1734607420653"\,"admin_label":""\,"field_label":"Submit"\,"field_key
 ":"submit_1734607420653"\,"id":244\,"beforeField":""\,"afterField":""\,"v
 alue":""\,"label_pos":"above"\,"parentType":"textbox"\,"element_templates
 ":["submit"\,"button"\,"input"]\,"old_classname":""\,"wrap_template":"wra
 p-no-label"}]\;nfForms.push(form)\;
CLASS:PUBLIC
DTSTART;TZID=Europe/Berlin:20250614T100000
DTEND;TZID=Europe/Berlin:20250614T130000
DTSTAMP:20260422T101529
END:VEVENT
END:VCALENDAR