BEGIN:VCALENDAR
VERSION:2.0
PRODID:www.gruene-mkk.de
METHOD:PUBLISH
BEGIN:VTIMEZONE
TZID:Europe/Berlin
X-LIC-LOCATION:Europe/Berlin
BEGIN:DAYLIGHT
TZOFFSETFROM:+0100
TZOFFSETTO:+0200
TZNAME:CEST
DTSTART:19700329T020000
RRULE:FREQ=YEARLY;INTERVAL=1;BYDAY=-1SU;BYMONTH=3
END:DAYLIGHT
BEGIN:STANDARD
TZOFFSETFROM:+0200
TZOFFSETTO:+0100
TZNAME:CET
DTSTART:19701025T030000
RRULE:FREQ=YEARLY;INTERVAL=1;BYDAY=-1SU;BYMONTH=10
END:STANDARD
END:VTIMEZONE
BEGIN:VEVENT
UID:77f345afe2a806b5dacd5b011759d4c6@www.gruene-mkk.de
URL;VALUE=URI:https://www.gruene-mkk.de/termine/mal-aktion-fuer-kinder-um
 weltsegel/
LOCATION:Geschäftsstelle, Calvinstr. 10, Hanau
SUMMARY:Mal-Aktion für Kinder – Umweltsegel
DESCRIPTION;ALTREP="data:text/html,%0A%3Cp%3EWir%20laden%20Kinder%20%28un
 d%20Erwachsene%29%20herzlich%20zu%20einer%20Mal-Aktion%20in%20unsere%20Ge
 sch%C3%A4ftsstelle%20ein.%20Bemalt%20werden%20Stoffst%C3%BCcke%20mit%20Mo
 tiven%20rund%20um%20Umwelt%20und%20Umweltschutz%2C%20die%20dann%20zu%20ei
 nem%20gro%C3%9Fen%20Umweltsegel%20zusammengen%C3%A4ht%20und%20am%20Hafent
 or%20in%20Hanau%20zum%20Hafentorfest%20Anfang%20September%20aufgeh%C3%A4n
 gt%20werden.%3C%2Fp%3E%0A%0A%0A%0A%3Cp%3EWir%20freuen%20uns%20auf%20viele
 %20kleine%20und%20gro%C3%9Fe%20K%C3%BCnstler%2C%20die%20zwischen%2015%20u
 nd%2017%20Uhr%20vorbeischauen%21%3C%2Fp%3E%0A":Wir laden Kinder (und Erwa
 chsene) herzlich zu einer Mal-Aktion in unsere Geschäftsstelle ein. Bema
 lt werden Stoffstücke mit Motiven rund um Umwelt und Umweltschutz\, die 
 dann zu einem großen Umweltsegel zusammengenäht und am Hafentor in Hana
 u zum Hafentorfest Anfang September aufgehängt werden.\n\nWir freuen uns
  auf viele kleine und große Künstler\, die zwischen 15 und 17 Uhr vorbe
 ischauen!
CLASS:PUBLIC
DTSTART;TZID=Europe/Berlin:20220831T150000
DTEND;TZID=Europe/Berlin:20220831T170000
DTSTAMP:20260422T043428
END:VEVENT
END:VCALENDAR